BEGIN:VCALENDAR
VERSION:2.0
PRODID:-//wp-events-plugin.com//7.2.3.1//EN
TZID:Europe/Stockholm
X-WR-TIMEZONE:Europe/Stockholm
BEGIN:VEVENT
UID:341@nbvj.se
DTSTART;TZID=Europe/Stockholm;VALUE=DATE:20190712
DTEND;TZID=Europe/Stockholm;VALUE=DATE:20190713
DTSTAMP:20190709T163357Z
URL:https://www.nbvj.se/kalendern/2019-07-12/
SUMMARY:Rälsbuss
DESCRIPTION:Vardagstrafik\, rälsbuss\, på våra två banor mellan Nora - 
 Järle respektive Nora - Pershyttan.\n&nbsp\;Köp biljetter på webben\n[t
 imetable/]
CATEGORIES:Trafikdag,Rälsbussar
END:VEVENT
BEGIN:VTIMEZONE
TZID:Europe/Stockholm
X-LIC-LOCATION:Europe/Stockholm
BEGIN:DAYLIGHT
DTSTART:20190331T030000
TZOFFSETFROM:+0100
TZOFFSETTO:+0200
TZNAME:CEST
END:DAYLIGHT
END:VTIMEZONE
END:VCALENDAR